BEGIN:VCALENDAR
VERSION:2.0
PRODID:-//hacksw/handcal//NONSGML v1.0//EN
BEGIN:VEVENT
DTSTAMP:20260514T023000Z
DTSTART:20260514T023000Z
DTEND:20260514T043000Z

SUMMARY:Los Angeles Sparks vs Indiana Fever
DESCRIPTION:
END:VEVENT
END:VCALENDAR