BEGIN:VCALENDAR
VERSION:2.0
PRODID:-//hacksw/handcal//NONSGML v1.0//EN
BEGIN:VEVENT
DTSTAMP:20260517T230000Z
DTSTART:20260517T230000Z
DTEND:20260518T010000Z

SUMMARY:Los Angeles Sparks vs Toronto Tempo
DESCRIPTION:
END:VEVENT
END:VCALENDAR